BEGIN:VCALENDAR
VERSION:2.0
PRODID:-//LundaEkonomerna Student Union - ECPv6.15.12.2//NONSGML v1.0//EN
CALSCALE:GREGORIAN
METHOD:PUBLISH
X-ORIGINAL-URL:https://www.lundaekonomerna.se
X-WR-CALDESC:Events for LundaEkonomerna Student Union
REFRESH-INTERVAL;VALUE=DURATION:PT1H
X-Robots-Tag:noindex
X-PUBLISHED-TTL:PT1H
BEGIN:VTIMEZONE
TZID:Europe/Stockholm
BEGIN:DAYLIGHT
TZOFFSETFROM:+0100
TZOFFSETTO:+0200
TZNAME:CEST
DTSTART:20240331T010000
END:DAYLIGHT
BEGIN:STANDARD
TZOFFSETFROM:+0200
TZOFFSETTO:+0100
TZNAME:CET
DTSTART:20241027T010000
END:STANDARD
BEGIN:DAYLIGHT
TZOFFSETFROM:+0100
TZOFFSETTO:+0200
TZNAME:CEST
DTSTART:20250330T010000
END:DAYLIGHT
BEGIN:STANDARD
TZOFFSETFROM:+0200
TZOFFSETTO:+0100
TZNAME:CET
DTSTART:20251026T010000
END:STANDARD
BEGIN:DAYLIGHT
TZOFFSETFROM:+0100
TZOFFSETTO:+0200
TZNAME:CEST
DTSTART:20260329T010000
END:DAYLIGHT
BEGIN:STANDARD
TZOFFSETFROM:+0200
TZOFFSETTO:+0100
TZNAME:CET
DTSTART:20261025T010000
END:STANDARD
END:VTIMEZONE
BEGIN:VEVENT
DTSTART;VALUE=DATE:20250902
DTEND;VALUE=DATE:20250903
DTSTAMP:20260420T214353
CREATED:20250830T220010Z
LAST-MODIFIED:20250831T093623Z
UID:10000230-1756771200-1756857599@www.lundaekonomerna.se
SUMMARY:Master's Welcome Barbecue
DESCRIPTION:To kick off your studies in Lund\, LundaEkonomerna is excited to welcome all new master students to our Master Welcome Barbecue! \nThis is the perfect opportunity to meet your fellow classmates\, connect with students from different programs\, and enjoy a relaxed evening together before the semester gets underway. We’ll provide great food\, fun activities\, and a warm atmosphere to make sure you feel right at home in Lund from day one. \n📅 Date: 2nd & 4th September\n📍 Location: Skånis\, LundaEkonomerna’s Student Union house (Tunavägen 37\, 223 63 Lund) \nThere are limited spots available\, so make sure to sign up early to secure your place! \nRegister by filling up the following link: \nhttps://podio.com/webforms/30442097/2567873
URL:https://www.lundaekonomerna.se/event/masters-welcome-bbq/
CATEGORIES:Social
ATTACH;FMTTYPE=image/png:https://www.lundaekonomerna.se/wp-content/uploads/2025/08/FB-header.png
END:VEVENT
END:VCALENDAR