BEGIN:VCALENDAR
VERSION:2.0
PRODID:-//LundaEkonomerna Student Union - ECPv6.15.12.2//NONSGML v1.0//EN
CALSCALE:GREGORIAN
METHOD:PUBLISH
X-WR-CALNAME:LundaEkonomerna Student Union
X-ORIGINAL-URL:https://www.lundaekonomerna.se
X-WR-CALDESC:Events for LundaEkonomerna Student Union
REFRESH-INTERVAL;VALUE=DURATION:PT1H
X-Robots-Tag:noindex
X-PUBLISHED-TTL:PT1H
BEGIN:VTIMEZONE
TZID:Europe/Stockholm
BEGIN:DAYLIGHT
TZOFFSETFROM:+0100
TZOFFSETTO:+0200
TZNAME:CEST
DTSTART:20240331T010000
END:DAYLIGHT
BEGIN:STANDARD
TZOFFSETFROM:+0200
TZOFFSETTO:+0100
TZNAME:CET
DTSTART:20241027T010000
END:STANDARD
BEGIN:DAYLIGHT
TZOFFSETFROM:+0100
TZOFFSETTO:+0200
TZNAME:CEST
DTSTART:20250330T010000
END:DAYLIGHT
BEGIN:STANDARD
TZOFFSETFROM:+0200
TZOFFSETTO:+0100
TZNAME:CET
DTSTART:20251026T010000
END:STANDARD
BEGIN:DAYLIGHT
TZOFFSETFROM:+0100
TZOFFSETTO:+0200
TZNAME:CEST
DTSTART:20260329T010000
END:DAYLIGHT
BEGIN:STANDARD
TZOFFSETFROM:+0200
TZOFFSETTO:+0100
TZNAME:CET
DTSTART:20261025T010000
END:STANDARD
END:VTIMEZONE
BEGIN:VEVENT
DTSTART;TZID=Europe/Stockholm:20250909T170000
DTEND;TZID=Europe/Stockholm:20250909T203000
DTSTAMP:20260426T012702
CREATED:20250908T133802Z
LAST-MODIFIED:20250908T133802Z
UID:10000236-1757437200-1757449800@www.lundaekonomerna.se
SUMMARY:LE Sports and CRC presents: Volleyball with EY
DESCRIPTION:Hello students! \nOn September 9th\, EY and the Corporate Relations Committee x Le sports invite you for an evening full of fun! \nWould you like a great opportunity where you can take the chance to network with EY’s company representatives and talk about possible job opportunities in a fun and relaxed environment\, with volleyball and dinner included? Join us! \nThe event will start at 17.15 on 9/9\, where everyone will be divided into teams together with one EY representative\, and have a fun\, competitive volleyball session. The evening will then continue with a dinner for all attendees! \nWhen: 9/9\, Schedule: 17:15-20:30 (approximately) \nWhere: Borgarparken beach arena. Note that transportation is not included – everyone is responsible to get there themselves! \nAny questions? Do not hesitate to contact Joel at ey@lundaekonomerna.se \nCan’t wait to see you!
URL:https://www.lundaekonomerna.se/event/le-sports-and-crc-presents-volleyball-with-ey/
LOCATION:Borgarparken
CATEGORIES:Career,Social
ATTACH;FMTTYPE=image/png:https://www.lundaekonomerna.se/wp-content/uploads/2025/09/LE-SPORTS-X-CRC.png
END:VEVENT
END:VCALENDAR