BEGIN:VCALENDAR
VERSION:2.0
PRODID:-//LundaEkonomerna Student Union - ECPv6.15.12.2//NONSGML v1.0//EN
CALSCALE:GREGORIAN
METHOD:PUBLISH
X-WR-CALNAME:LundaEkonomerna Student Union
X-ORIGINAL-URL:https://www.lundaekonomerna.se
X-WR-CALDESC:Events for LundaEkonomerna Student Union
REFRESH-INTERVAL;VALUE=DURATION:PT1H
X-Robots-Tag:noindex
X-PUBLISHED-TTL:PT1H
BEGIN:VTIMEZONE
TZID:Europe/Stockholm
BEGIN:DAYLIGHT
TZOFFSETFROM:+0100
TZOFFSETTO:+0200
TZNAME:CEST
DTSTART:20240331T010000
END:DAYLIGHT
BEGIN:STANDARD
TZOFFSETFROM:+0200
TZOFFSETTO:+0100
TZNAME:CET
DTSTART:20241027T010000
END:STANDARD
BEGIN:DAYLIGHT
TZOFFSETFROM:+0100
TZOFFSETTO:+0200
TZNAME:CEST
DTSTART:20250330T010000
END:DAYLIGHT
BEGIN:STANDARD
TZOFFSETFROM:+0200
TZOFFSETTO:+0100
TZNAME:CET
DTSTART:20251026T010000
END:STANDARD
BEGIN:DAYLIGHT
TZOFFSETFROM:+0100
TZOFFSETTO:+0200
TZNAME:CEST
DTSTART:20260329T010000
END:DAYLIGHT
BEGIN:STANDARD
TZOFFSETFROM:+0200
TZOFFSETTO:+0100
TZNAME:CET
DTSTART:20261025T010000
END:STANDARD
END:VTIMEZONE
BEGIN:VEVENT
DTSTART;TZID=Europe/Stockholm:20250917T170000
DTEND;TZID=Europe/Stockholm:20250917T200000
DTSTAMP:20260420T122306
CREATED:20250914T215502Z
LAST-MODIFIED:20250916T142321Z
UID:10000238-1758128400-1758139200@www.lundaekonomerna.se
SUMMARY:CRC Presents: KPMG Case Event
DESCRIPTION:[vc_row][vc_column][vc_column_text uncode_shortcode_id=”442450″] \nIn collaboration with CRC\, KPMG Deal Advisory invites Master’s and Bachelor’s students in their final year (semester 5-6) to an evening of case solving and shuffleboard. The evening will start with a short presentation of our Deal Advisory Departments\, followed by case solving and shuffleboard. \nWhen: September 17th – Start time: 17:15Where: LUSEM Classroom: EC1:134 \nSchedule:17:15 – 18:00 Deal Advisory intro & salads from Grönt & Gott18:00 – 19:00 Case solving19:30 Shuffleboard at Paradis \nWe look forward to seeing you there! \n[/vc_column_text][/vc_column][/vc_row][vc_row][vc_column column_width_percent=”100″ gutter_size=”3″ overlay_alpha=”50″ shift_x=”0″ shift_y=”0″ shift_y_down=”0″ z_index=”0″ medium_width=”0″ mobile_width=”0″ width=”1/2″ uncode_shortcode_id=”202948″][vc_custom_heading uncode_shortcode_id=”168499″ subheading=”Contact Linea Anagnostopoulos Persson at crc@lundaekonomerna.se”] \nQuestions?\n[/vc_custom_heading][/vc_column][vc_column width=”1/2″][vc_single_image media=”100124″ media_width_percent=”50″ media_ratio=”one-one” alignment=”center” shape=”img-circle” uncode_shortcode_id=”351668″][/vc_column][/vc_row]
URL:https://www.lundaekonomerna.se/event/crc-kmpg-case-copy/
LOCATION:LUSEM\, Tycho Brahes väg 1\, LUND\, 223 63\, Sweden
CATEGORIES:Career
ATTACH;FMTTYPE=image/jpeg:https://www.lundaekonomerna.se/wp-content/uploads/2025/09/544892622_1105858601710893_1115997887283553935_n.jpg
END:VEVENT
END:VCALENDAR