BEGIN:VCALENDAR
VERSION:2.0
PRODID:-//LundaEkonomerna Student Union - ECPv6.15.12.2//NONSGML v1.0//EN
CALSCALE:GREGORIAN
METHOD:PUBLISH
X-ORIGINAL-URL:https://www.lundaekonomerna.se
X-WR-CALDESC:Events for LundaEkonomerna Student Union
REFRESH-INTERVAL;VALUE=DURATION:PT1H
X-Robots-Tag:noindex
X-PUBLISHED-TTL:PT1H
BEGIN:VTIMEZONE
TZID:Europe/Stockholm
BEGIN:DAYLIGHT
TZOFFSETFROM:+0100
TZOFFSETTO:+0200
TZNAME:CEST
DTSTART:20240331T010000
END:DAYLIGHT
BEGIN:STANDARD
TZOFFSETFROM:+0200
TZOFFSETTO:+0100
TZNAME:CET
DTSTART:20241027T010000
END:STANDARD
BEGIN:DAYLIGHT
TZOFFSETFROM:+0100
TZOFFSETTO:+0200
TZNAME:CEST
DTSTART:20250330T010000
END:DAYLIGHT
BEGIN:STANDARD
TZOFFSETFROM:+0200
TZOFFSETTO:+0100
TZNAME:CET
DTSTART:20251026T010000
END:STANDARD
BEGIN:DAYLIGHT
TZOFFSETFROM:+0100
TZOFFSETTO:+0200
TZNAME:CEST
DTSTART:20260329T010000
END:DAYLIGHT
BEGIN:STANDARD
TZOFFSETFROM:+0200
TZOFFSETTO:+0100
TZNAME:CET
DTSTART:20261025T010000
END:STANDARD
END:VTIMEZONE
BEGIN:VEVENT
DTSTART;TZID=Europe/Stockholm:20250930T110000
DTEND;TZID=Europe/Stockholm:20250930T150000
DTSTAMP:20260419T022434
CREATED:20250928T213111Z
LAST-MODIFIED:20250928T213419Z
UID:10000240-1759230000-1759244400@www.lundaekonomerna.se
SUMMARY:LEBT Pre-Event
DESCRIPTION:Our pre-event is almost here\, and we’d love for you to join us! \nDrop by on September 30th anytime between 11 AM and 3 PM at skånis to learn more about the tour and get all your questions answered! \nCome along to mingle\, grab a free hot dog\, have some snacks and take part in a fun quiz walk and other games with a chance to win an exiting price! \nWe are so excited and hope to see you there! 💙
URL:https://www.lundaekonomerna.se/event/122/
LOCATION:Skånis\, Tunavägen 37\, LUND\, 223 63\, Sweden
CATEGORIES:Career
ATTACH;FMTTYPE=image/png:https://www.lundaekonomerna.se/wp-content/uploads/2025/09/PRE-EVENT-30TH-OF-SEPTEMBER.png
END:VEVENT
BEGIN:VEVENT
DTSTART;TZID=Europe/Stockholm:20250930T170000
DTEND;TZID=Europe/Stockholm:20250930T200000
DTSTAMP:20260419T022434
CREATED:20250928T190700Z
LAST-MODIFIED:20250928T191530Z
UID:10000239-1759251600-1759262400@www.lundaekonomerna.se
SUMMARY:EY Sustainability Case Evening
DESCRIPTION:[vc_row][vc_column][vc_column_text uncode_shortcode_id=”137701″] \nHello Students! \nWe’re excited to invite you to a Sustainability Case Evening on September 30th\, hosted by EY and the Corporate Relations Committee! \nAre you interested in gaining insights into sustainability and its application in business? Join us at 5:00 PM for a presentation by EY\, followed by a collaborative case session where you’ll work alongside EY representatives. This is a fantastic opportunity to learn something new and network with professionals in the field. \nAfter the case session\, we’ll conclude the evening with some delicious pizza and some some fun mingling! It’s a great chance to ask questions\, get to know EY better\, and connect with fellow students in a relaxed setting. \nLocation: Holger Crafoord Ekonomicentrum (classroom details will be provided in your confirmation email). \nWe look forward to seeing you there! \n[/vc_column_text][/vc_column][/vc_row][vc_row][vc_column column_width_percent=”100″ gutter_size=”3″ overlay_alpha=”50″ shift_x=”0″ shift_y=”0″ shift_y_down=”0″ z_index=”0″ medium_width=”0″ mobile_width=”0″ width=”1/2″ uncode_shortcode_id=”202948″][vc_custom_heading uncode_shortcode_id=”610912″ subheading=”Contact Joel Öhrberg at ey@lundaekonomerna.se”] \nQuestions?\n[/vc_custom_heading][/vc_column][vc_column width=”1/2″][vc_single_image media=”92169″ media_width_percent=”50″ media_ratio=”one-one” alignment=”center” shape=”img-circle” uncode_shortcode_id=”102416″][/vc_column][/vc_row]
URL:https://www.lundaekonomerna.se/event/crc-ey-sustainability-case-evening/
LOCATION:LUSEM\, Tycho Brahes väg 1\, LUND\, 223 63\, Sweden
CATEGORIES:Career
ATTACH;FMTTYPE=image/png:https://www.lundaekonomerna.se/wp-content/uploads/2025/09/EY-Case-Facebook-1.png
END:VEVENT
END:VCALENDAR