BEGIN:VCALENDAR
VERSION:2.0
PRODID:-//LundaEkonomerna Student Union - ECPv6.15.12.2//NONSGML v1.0//EN
CALSCALE:GREGORIAN
METHOD:PUBLISH
X-WR-CALNAME:LundaEkonomerna Student Union
X-ORIGINAL-URL:https://www.lundaekonomerna.se
X-WR-CALDESC:Events for LundaEkonomerna Student Union
REFRESH-INTERVAL;VALUE=DURATION:PT1H
X-Robots-Tag:noindex
X-PUBLISHED-TTL:PT1H
BEGIN:VTIMEZONE
TZID:Europe/Stockholm
BEGIN:DAYLIGHT
TZOFFSETFROM:+0100
TZOFFSETTO:+0200
TZNAME:CEST
DTSTART:20240331T010000
END:DAYLIGHT
BEGIN:STANDARD
TZOFFSETFROM:+0200
TZOFFSETTO:+0100
TZNAME:CET
DTSTART:20241027T010000
END:STANDARD
BEGIN:DAYLIGHT
TZOFFSETFROM:+0100
TZOFFSETTO:+0200
TZNAME:CEST
DTSTART:20250330T010000
END:DAYLIGHT
BEGIN:STANDARD
TZOFFSETFROM:+0200
TZOFFSETTO:+0100
TZNAME:CET
DTSTART:20251026T010000
END:STANDARD
BEGIN:DAYLIGHT
TZOFFSETFROM:+0100
TZOFFSETTO:+0200
TZNAME:CEST
DTSTART:20260329T010000
END:DAYLIGHT
BEGIN:STANDARD
TZOFFSETFROM:+0200
TZOFFSETTO:+0100
TZNAME:CET
DTSTART:20261025T010000
END:STANDARD
END:VTIMEZONE
BEGIN:VEVENT
DTSTART;VALUE=DATE:20251103
DTEND;VALUE=DATE:20251108
DTSTAMP:20260420T213033
CREATED:20251030T163812Z
LAST-MODIFIED:20251030T163812Z
UID:10000250-1762128000-1762559999@www.lundaekonomerna.se
SUMMARY:Speak Up Days
DESCRIPTION:The Education Committee presents The Speak Up Days of HT25!\n\nBetween the 3-7th of November you have the opportunity to give your opinion regarding your education through our survey. Help us improve the student experience here at LUSEM!\n\nDuring this week you’ll be able to compete for fantastic prizes as well as participate in fun games and activities! We’ll also be handing out free coffee\, energy drinks and fika in EC as a thank you for participating. Don’t hesitate to swing by anytime to play some games and have a chat with us! \n\nWe will be there everyday between 10-15!
URL:https://www.lundaekonomerna.se/event/speak-up-days/
LOCATION:LUSEM\, Tycho Brahes väg 1\, LUND\, 223 63\, Sweden
CATEGORIES:Education
ATTACH;FMTTYPE=image/jpeg:https://www.lundaekonomerna.se/wp-content/uploads/2025/10/spud.jpg
END:VEVENT
END:VCALENDAR