BEGIN:VCALENDAR
VERSION:2.0
PRODID:-//LundaEkonomerna Student Union - ECPv6.15.12.2//NONSGML v1.0//EN
CALSCALE:GREGORIAN
METHOD:PUBLISH
X-ORIGINAL-URL:https://www.lundaekonomerna.se
X-WR-CALDESC:Events for LundaEkonomerna Student Union
REFRESH-INTERVAL;VALUE=DURATION:PT1H
X-Robots-Tag:noindex
X-PUBLISHED-TTL:PT1H
BEGIN:VTIMEZONE
TZID:Europe/Stockholm
BEGIN:DAYLIGHT
TZOFFSETFROM:+0100
TZOFFSETTO:+0200
TZNAME:CEST
DTSTART:20240331T010000
END:DAYLIGHT
BEGIN:STANDARD
TZOFFSETFROM:+0200
TZOFFSETTO:+0100
TZNAME:CET
DTSTART:20241027T010000
END:STANDARD
BEGIN:DAYLIGHT
TZOFFSETFROM:+0100
TZOFFSETTO:+0200
TZNAME:CEST
DTSTART:20250330T010000
END:DAYLIGHT
BEGIN:STANDARD
TZOFFSETFROM:+0200
TZOFFSETTO:+0100
TZNAME:CET
DTSTART:20251026T010000
END:STANDARD
BEGIN:DAYLIGHT
TZOFFSETFROM:+0100
TZOFFSETTO:+0200
TZNAME:CEST
DTSTART:20260329T010000
END:DAYLIGHT
BEGIN:STANDARD
TZOFFSETFROM:+0200
TZOFFSETTO:+0100
TZNAME:CET
DTSTART:20261025T010000
END:STANDARD
END:VTIMEZONE
BEGIN:VEVENT
DTSTART;TZID=Europe/Stockholm:20251120T170000
DTEND;TZID=Europe/Stockholm:20251120T200000
DTSTAMP:20260420T213919
CREATED:20251113T120640Z
LAST-MODIFIED:20251113T120640Z
UID:10000252-1763658000-1763668800@www.lundaekonomerna.se
SUMMARY:Study less with Lenovo
DESCRIPTION:Lenovo event – Study less\nOn Thursday\, 20 November\, Lundaekonomerna and Lenovo will open the doors to Hallands Nation for an evening event with the theme Study less – but smarter.\nDuring the event\, researcher Emma Frans will talk about and give tips on how you can study smarter and with less stress. Lenovo will also be there to give tips on how you can use your technology and AI to study more effectively. \n\nAll participants will receive a goodie bag and also have the opportunity to win a computer from Lenovo. Food and drinks will be served\, and there will be time to mingle with Lenovo. There are a limited number of places\, so it’s first come\, first served.  \n\nSign up via this link: https://podio.com/webforms/30539178/2581791\nLocation: Hallands nation\nTime: 17:00 to 20:00
URL:https://www.lundaekonomerna.se/event/study-less-with-lenovo/
LOCATION:LUSEM\, Tycho Brahes väg 1\, LUND\, 223 63\, Sweden
CATEGORIES:Career
ATTACH;FMTTYPE=image/jpeg:https://www.lundaekonomerna.se/wp-content/uploads/2025/11/crc-lenovo.jpg
END:VEVENT
END:VCALENDAR