BEGIN:VCALENDAR
VERSION:2.0
PRODID:-//LundaEkonomerna Student Union - ECPv6.15.12.2//NONSGML v1.0//EN
CALSCALE:GREGORIAN
METHOD:PUBLISH
X-ORIGINAL-URL:https://www.lundaekonomerna.se
X-WR-CALDESC:Events for LundaEkonomerna Student Union
REFRESH-INTERVAL;VALUE=DURATION:PT1H
X-Robots-Tag:noindex
X-PUBLISHED-TTL:PT1H
BEGIN:VTIMEZONE
TZID:Europe/Stockholm
BEGIN:DAYLIGHT
TZOFFSETFROM:+0100
TZOFFSETTO:+0200
TZNAME:CEST
DTSTART:20240331T010000
END:DAYLIGHT
BEGIN:STANDARD
TZOFFSETFROM:+0200
TZOFFSETTO:+0100
TZNAME:CET
DTSTART:20241027T010000
END:STANDARD
BEGIN:DAYLIGHT
TZOFFSETFROM:+0100
TZOFFSETTO:+0200
TZNAME:CEST
DTSTART:20250330T010000
END:DAYLIGHT
BEGIN:STANDARD
TZOFFSETFROM:+0200
TZOFFSETTO:+0100
TZNAME:CET
DTSTART:20251026T010000
END:STANDARD
BEGIN:DAYLIGHT
TZOFFSETFROM:+0100
TZOFFSETTO:+0200
TZNAME:CEST
DTSTART:20260329T010000
END:DAYLIGHT
BEGIN:STANDARD
TZOFFSETFROM:+0200
TZOFFSETTO:+0100
TZNAME:CET
DTSTART:20261025T010000
END:STANDARD
END:VTIMEZONE
BEGIN:VEVENT
DTSTART;TZID=Europe/Stockholm:20251126T100000
DTEND;TZID=Europe/Stockholm:20251126T150000
DTSTAMP:20260420T150954
CREATED:20251117T193613Z
LAST-MODIFIED:20251117T193613Z
UID:10000256-1764151200-1764169200@www.lundaekonomerna.se
SUMMARY:Staffer Mingle eeeDays 2025
DESCRIPTION:COME MEET US!\nThe eee-committee will be hanging out in Ljusgården\, EC1 on November 26th\, 10:00–15:00!Swing by for a chat\, maybe some spons\, and get a sneak peek at what it means to be a staffer during the eeeDays 2026.Don’t miss it! \nThis 42nd edition of eeeDays will take place on February 18th and 19th of 2026. On the last day of the fair we will celebrate all the students and companies with the great banquet “Pytten”. To pull off this amazing event the committee needs YOU! \nWhat is eeeDays?The largest career fair for Business\, Economics\, and IT students in the Nordic region. Annually arranged by LundaEkonomerna at Lund University School of Economics and Management. With surrounding concepts and events aiming for interaction\, eee is more than just a career fair. We offer the ultimate platform for your journey towards recruitment. \nWhy become a staffer?To be a staffer means you get to meet lots of people\, attending thank you events like the Preeeparty \, but also having the opportunity to meet your future employer! Did we also mention you get a guaranteed ticket and discount to the spectacular banquet: PYTTEN! All in all\, is also the perfect start to get engaged in the union or to meet fellow LundaEkonomer! \nWhat are we looking for?As a staffer during the eeeDays 2026\, we expect you to be a service-minded and joyful person who will greet every visitor\, company representative and fellow staff with a professional impression and a big smile. \nThere is a wide variety of staffer positions available to apply to. You can find a more detailed description of the different positions on our website(https://eee.lundaekonomerna.se/staffer/) or our instagram @eeedays.le. Read it carefully and find the most suitable positions for you! \nApplication is open from the 24th November until the 7th of December!  \nQuestions? Ask the HR Coordinator\, Carolina at hrs.eee@lundaekonomerna.se
URL:https://www.lundaekonomerna.se/event/staffer-mingle-eeedays-2025/
LOCATION:LUSEM\, Tycho Brahes väg 1\, LUND\, 223 63\, Sweden
CATEGORIES:Career
ATTACH;FMTTYPE=image/jpeg:https://www.lundaekonomerna.se/wp-content/uploads/2025/11/staffer-mingle-eee-2025.jpg
END:VEVENT
END:VCALENDAR