BEGIN:VCALENDAR
VERSION:2.0
PRODID:-//LundaEkonomerna Student Union - ECPv6.15.12.2//NONSGML v1.0//EN
CALSCALE:GREGORIAN
METHOD:PUBLISH
X-ORIGINAL-URL:https://www.lundaekonomerna.se
X-WR-CALDESC:Events for LundaEkonomerna Student Union
REFRESH-INTERVAL;VALUE=DURATION:PT1H
X-Robots-Tag:noindex
X-PUBLISHED-TTL:PT1H
BEGIN:VTIMEZONE
TZID:Europe/Stockholm
BEGIN:DAYLIGHT
TZOFFSETFROM:+0100
TZOFFSETTO:+0200
TZNAME:CEST
DTSTART:20240331T010000
END:DAYLIGHT
BEGIN:STANDARD
TZOFFSETFROM:+0200
TZOFFSETTO:+0100
TZNAME:CET
DTSTART:20241027T010000
END:STANDARD
BEGIN:DAYLIGHT
TZOFFSETFROM:+0100
TZOFFSETTO:+0200
TZNAME:CEST
DTSTART:20250330T010000
END:DAYLIGHT
BEGIN:STANDARD
TZOFFSETFROM:+0200
TZOFFSETTO:+0100
TZNAME:CET
DTSTART:20251026T010000
END:STANDARD
BEGIN:DAYLIGHT
TZOFFSETFROM:+0100
TZOFFSETTO:+0200
TZNAME:CEST
DTSTART:20260329T010000
END:DAYLIGHT
BEGIN:STANDARD
TZOFFSETFROM:+0200
TZOFFSETTO:+0100
TZNAME:CET
DTSTART:20261025T010000
END:STANDARD
END:VTIMEZONE
BEGIN:VEVENT
DTSTART;TZID=Europe/Stockholm:20251127T160000
DTEND;TZID=Europe/Stockholm:20251127T220000
DTSTAMP:20260419T133541
CREATED:20251114T141625Z
LAST-MODIFIED:20251114T141832Z
UID:10000253-1764259200-1764280800@www.lundaekonomerna.se
SUMMARY:EY Office Visit
DESCRIPTION:EY Office Visit\nWhat do you know about EY\, and what part of EY interests you? We’re excited to invite you to the EY office in Malmö for an evening filled with fun activities and networking with company representatives on November 27th.  \nThis action-packed evening kicks off with a bus ride from EC at 16:00 to EY’s Malmö office. Once there\, you’ll attend an introductory presentation covering EY’s different divisions and the various opportunities available within the company. Afterward\, EY has arranged some exciting activities and challenges for everyone\, with a special prize for the top-performing team! Following the challenges\, we’ll enjoy dinner together\, giving you the chance to learn even more about EY in a relaxed setting. The evening wraps up around 22:00\, at which point the bus will bring you back to EC.  \n📅 Date: 27th of November  \n⏰ Time: 16:00 – 22:00  \n📍Location: EY office in Malmö (transportation from EC is provided)  \n  \n🔗 Sign up by this link(make sure to sign up before the 19th of november)  \nAny questions? Do not hesitate to contact Joel at ey@lundaekonomerna.se.  \nCan’t wait to see you! // Corporate Relations Committee
URL:https://www.lundaekonomerna.se/event/ey-office-visit/
LOCATION:LUSEM\, Tycho Brahes väg 1\, LUND\, 223 63\, Sweden
CATEGORIES:Career
ATTACH;FMTTYPE=image/jpeg:https://www.lundaekonomerna.se/wp-content/uploads/2025/11/EY-Office-Visit.jpg
END:VEVENT
END:VCALENDAR