BEGIN:VCALENDAR
VERSION:2.0
PRODID:-//LundaEkonomerna Student Union - ECPv6.15.12.2//NONSGML v1.0//EN
CALSCALE:GREGORIAN
METHOD:PUBLISH
X-ORIGINAL-URL:https://www.lundaekonomerna.se
X-WR-CALDESC:Events for LundaEkonomerna Student Union
REFRESH-INTERVAL;VALUE=DURATION:PT1H
X-Robots-Tag:noindex
X-PUBLISHED-TTL:PT1H
BEGIN:VTIMEZONE
TZID:Europe/Stockholm
BEGIN:DAYLIGHT
TZOFFSETFROM:+0100
TZOFFSETTO:+0200
TZNAME:CEST
DTSTART:20240331T010000
END:DAYLIGHT
BEGIN:STANDARD
TZOFFSETFROM:+0200
TZOFFSETTO:+0100
TZNAME:CET
DTSTART:20241027T010000
END:STANDARD
BEGIN:DAYLIGHT
TZOFFSETFROM:+0100
TZOFFSETTO:+0200
TZNAME:CEST
DTSTART:20250330T010000
END:DAYLIGHT
BEGIN:STANDARD
TZOFFSETFROM:+0200
TZOFFSETTO:+0100
TZNAME:CET
DTSTART:20251026T010000
END:STANDARD
BEGIN:DAYLIGHT
TZOFFSETFROM:+0100
TZOFFSETTO:+0200
TZNAME:CEST
DTSTART:20260329T010000
END:DAYLIGHT
BEGIN:STANDARD
TZOFFSETFROM:+0200
TZOFFSETTO:+0100
TZNAME:CET
DTSTART:20261025T010000
END:STANDARD
END:VTIMEZONE
BEGIN:VEVENT
DTSTART;VALUE=DATE:20250825
DTEND;VALUE=DATE:20250830
DTSTAMP:20260419T214449
CREATED:20250715T095045Z
LAST-MODIFIED:20250715T095012Z
UID:10000229-1756080000-1756511999@www.lundaekonomerna.se
SUMMARY:Novice Week 2025
DESCRIPTION:To kick start your time in Lund\, the Novice Committee invites all new bachelor students to The Novice Week of Fall 2025. \n\nThis year it will take place between the 25th and 29th of August and we hope that you are as excited as we are! The Novice Committee has worked tirelessly to create a fun\, unforgettable event for all new novices. During this Novice Week LundaEkonomerna will truly give you the best start to your student life in Lund! \nThere are limited spots available so secure your spot early before it’s too late! Here’s a guide to help you sign up:\n1. Download the Orbi app\n2. Create your account or log in if you already have one\n3. Search for LundaEkonomerna\n4. Navigate to the “Upcoming events” and find “Novice Week HT25”\n5. Follow the registration steps.\n6. Get ready to be a part of a week you will cherish forever! \nYou’ll be contacted by your fadders (mentors) right before the week begins! \n\n[vc_button button_color=”color-214530″ size=”btn-xl” radius=”btn-round” border_width=”0″ link=”url:https%3A%2F%2Fwww.lundaekonomerna.se%2Fstudents%2Fevents%2Fnovice-week-2%2F” button_color_type=”uncode-palette” uncode_shortcode_id=”121503″]READ MORE HERE![/vc_button]
URL:https://www.lundaekonomerna.se/event/novice-week-2025/
CATEGORIES:Social
ATTACH;FMTTYPE=image/png:https://www.lundaekonomerna.se/wp-content/uploads/2025/07/Untitled-design2.png
END:VEVENT
END:VCALENDAR