BEGIN:VCALENDAR
VERSION:2.0
PRODID:-//LundaEkonomerna Student Union - ECPv6.15.12.2//NONSGML v1.0//EN
CALSCALE:GREGORIAN
METHOD:PUBLISH
X-WR-CALNAME:LundaEkonomerna Student Union
X-ORIGINAL-URL:https://www.lundaekonomerna.se
X-WR-CALDESC:Events for LundaEkonomerna Student Union
REFRESH-INTERVAL;VALUE=DURATION:PT1H
X-Robots-Tag:noindex
X-PUBLISHED-TTL:PT1H
BEGIN:VTIMEZONE
TZID:Europe/Stockholm
BEGIN:DAYLIGHT
TZOFFSETFROM:+0100
TZOFFSETTO:+0200
TZNAME:CEST
DTSTART:20240331T010000
END:DAYLIGHT
BEGIN:STANDARD
TZOFFSETFROM:+0200
TZOFFSETTO:+0100
TZNAME:CET
DTSTART:20241027T010000
END:STANDARD
BEGIN:DAYLIGHT
TZOFFSETFROM:+0100
TZOFFSETTO:+0200
TZNAME:CEST
DTSTART:20250330T010000
END:DAYLIGHT
BEGIN:STANDARD
TZOFFSETFROM:+0200
TZOFFSETTO:+0100
TZNAME:CET
DTSTART:20251026T010000
END:STANDARD
BEGIN:DAYLIGHT
TZOFFSETFROM:+0100
TZOFFSETTO:+0200
TZNAME:CEST
DTSTART:20260329T010000
END:DAYLIGHT
BEGIN:STANDARD
TZOFFSETFROM:+0200
TZOFFSETTO:+0100
TZNAME:CET
DTSTART:20261025T010000
END:STANDARD
END:VTIMEZONE
BEGIN:VEVENT
DTSTART;VALUE=DATE:20251010
DTEND;VALUE=DATE:20251011
DTSTAMP:20260420T213031
CREATED:20250928T213549Z
LAST-MODIFIED:20250928T213904Z
UID:10000241-1760054400-1760140799@www.lundaekonomerna.se
SUMMARY:Corporate Challenge 2025
DESCRIPTION:[vc_row][vc_column][vc_column_text uncode_shortcode_id=”170159″]It is time for Corporate Challenge 2023! \nAt Corporate Challenge\, you’ll be paired with the company of your choice and compete together as a team to take home the victory. Think of it as the playday of Novice Week but this time you’re also building connections with your future employers. How awesome is that? \nAs if this wasn’t enough\, you also get the chance to attend the first banquette of the semester\, an incredible evening you don’t want to miss! \nWe can’t wait to see you 10th of October We promise\, this is an day you’ll remember! \nHugs\,The CC committee[/vc_column_text][/vc_column][/vc_row][vc_row][vc_column column_width_percent=”100″ gutter_size=”3″ overlay_alpha=”50″ shift_x=”0″ shift_y=”0″ shift_y_down=”0″ z_index=”0″ medium_width=”0″ mobile_width=”0″ width=”1/2″ uncode_shortcode_id=”202948″][vc_custom_heading uncode_shortcode_id=”270907″ subheading=”Contact Alicia Juneheed at cc2@lundaekonomerna.se”] \nQuestions?\n[/vc_custom_heading][/vc_column][vc_column width=”1/2″][vc_single_image media=”99748″ media_width_percent=”65″ media_ratio=”one-one” alignment=”center” shape=”img-circle” uncode_shortcode_id=”914793″][/vc_column][/vc_row]
URL:https://www.lundaekonomerna.se/event/corporate-challenge-2025/
CATEGORIES:Career
ATTACH;FMTTYPE=image/jpeg:https://www.lundaekonomerna.se/wp-content/uploads/2025/09/CORPORATE-CHALLENGE-2025.jpg
END:VEVENT
BEGIN:VEVENT
DTSTART;TZID=Europe/Stockholm:20251011T180000
DTEND;TZID=Europe/Stockholm:20251011T235900
DTSTAMP:20260420T213031
CREATED:20250928T214052Z
LAST-MODIFIED:20250928T214420Z
UID:10000242-1760205600-1760227140@www.lundaekonomerna.se
SUMMARY:Social Bike Party
DESCRIPTION:It’s time to shine as ICONIC TRIPLES! \nA big HELLO to all our fantastic LundaEkonomer and a WELCOME BACK to our returning bike enthusiasts. Whether you’re new to our vibrant community or a seasoned pedal-pusher\, you are about to experience the most thrilling\, exhilarating\, and unforgettable bike rides of your life! \nGrab your two best sidekicks and get ready to transform into the most legendary trios of all time! From movie icons and cartoon classics to rock\, paper and scissors – each group will embody an Iconic Triple through costumes and creativity. Get ready to meet new friends\, dress to impress\, and tripLE the FUN with us! \nJoin The Social Committee on October 11th for a night filled with iconic vibes\, festive energy\, and unforgettable memories. Dress up and prepare to become part of history’s greatest trios! \nYou will sign up in groups of three people. Together with your group\, you will host one course and also head to two other locations to enjoy either a starter\, main course\, or dessert. At each location\, you and your group will meet up and eat with two other groups – meaning that you and your group will get to know 18 new friends during the whole evening! \nAfter the bike party we will end the night at GÖTEBORGS NATION\, the afterparty is exclusive for only LundaEkonomer!!! So get exiteeeed!! \nSo to boil it down to some more practical information: \n– You sign up as a team consisting of three people at once (one person per group will sign the whole group up).– You and your group must be able to host either a starter\, main course\, or dessert at a group member’s place.– The food served during the party should be vegetarian.– The member of your group hosting must live in the city of Lund (due to practical reasons).– Group themes will be assigned in the confirmation email.– Spots are limited.– Afterparty at Göteborgs nation!!! \nPrice: 300 kr per ticket – (100 kr per person)\, including after-party ticket.NOTE that you only buy one ticket for the whole groupThe tickets will release 30/9 through ORBI\, 12:00 for all LundaEkonomer. \nSome days after signing up you will receive a information mail. In this mail\, you will receive more information about the event\, including the theme of your group. You will receive your schedule for the night THE SAME DAY as the bike party. \nRemember that you have to be a member of LundaEkonomerna to attend this event. + By signing up for this event\, you agree that LundaEkonomerna Student Union processes your personal information added below. \nDo not forget to follow us on Instagram\,@socialcommittee.le #besocialwithsocial \nWe can’t wait to see you!Your beloved Social Committee
URL:https://www.lundaekonomerna.se/event/bike-party/
CATEGORIES:Social
ATTACH;FMTTYPE=image/jpeg:https://www.lundaekonomerna.se/wp-content/uploads/2025/09/Social-Bike-Party.jpg
END:VEVENT
BEGIN:VEVENT
DTSTART;TZID=Europe/Stockholm:20251016T170000
DTEND;TZID=Europe/Stockholm:20251016T203000
DTSTAMP:20260420T213031
CREATED:20251013T090127Z
LAST-MODIFIED:20251013T090127Z
UID:10000245-1760634000-1760646600@www.lundaekonomerna.se
SUMMARY:Case Evening & Shuffleboard with KPMG
DESCRIPTION:Are you interested in Financial Auditing? Get the chance to meet your future employer and prepare for your future with a fun case\, poké bowls & shuffleboard-evening! \nKPMG is teaming up with LundaEkonomerna to invite you to meet experienced professionals and to improve your case solving skills. Free delicious poké bowl included\, and finishing the night off with some relaxed shuffleboard and mingling at Paradiset Biljard.All students are welcome to apply! \nThe event will begin with a short dinner presentation by KPMG representatives\, followed by the case solving\, a Q&A session\, and finally some mingling at Paradiset Biljard. \nWhen: October 16th – Start time: 17:00.Where: LUSEM (Classroom: EC1:135). \nSchedule: \n\n17:00 – 17:30 – Intro + poké bowls\n17:30 – 18:20 – Case solving in groups\n18:20 – 18:30 – Walkthrough of case\, Q&A with KPMG.\n19:00 – 20:30 – Pool and Shuffleboard at Paradiset Biljard\n\n  \nSign up through this link: https://podio.com/webforms/30503253/2576867
URL:https://www.lundaekonomerna.se/event/case-evening-and-shuffleboard-with-kpmg/
LOCATION:LUSEM\, Tycho Brahes väg 1\, LUND\, 223 63\, Sweden
CATEGORIES:Career
ATTACH;FMTTYPE=image/jpeg:https://www.lundaekonomerna.se/wp-content/uploads/2025/10/case-evening-kpmg.jpg
END:VEVENT
BEGIN:VEVENT
DTSTART;TZID=Europe/Stockholm:20251017T083000
DTEND;TZID=Europe/Stockholm:20251017T100000
DTSTAMP:20260420T213031
CREATED:20251013T090948Z
LAST-MODIFIED:20251013T092436Z
UID:10000246-1760689800-1760695200@www.lundaekonomerna.se
SUMMARY:Breakfast Club with Mats Nilsson
DESCRIPTION:Dear Lundaekonomer\, have you been curious how a professional sports team operates? How an organisation go from bankruptcy to make a profit in two years? \nJoin us for an inspiring breakfast club with Mats Nilsson the president of Lugi handball\, a professional handball club in Sweden’s second highest division both women and men’s teams. \nMats will talk about how Lugi turn around their organisation to build for the future and how to operate one of the biggest handball clubs in Sweden! Learn how they gather sponsors and rebuild their economic structure. \nThis is a great opportunity to learn how a professional sports team operates and how they strive to do even better\, both professionally but also for their youth teams! \nKickstart your morning with a delicious breakfast buffet while learning from one of the leading handball teams in Sweden! \nDate: October 17thTime: 8:40-10:00Location: Tegstamsalen EC3:109 \nFor any questions\, feel free to contact Ebba at breakfastclub@lundaekonomerna.se
URL:https://www.lundaekonomerna.se/event/breakfast-club-with-mats-nilsson/
LOCATION:LUSEM\, Tycho Brahes väg 1\, LUND\, 223 63\, Sweden
CATEGORIES:Career
ATTACH;FMTTYPE=image/jpeg:https://www.lundaekonomerna.se/wp-content/uploads/2025/10/breakfast-club.jpg
END:VEVENT
BEGIN:VEVENT
DTSTART;TZID=Europe/Stockholm:20251023T170000
DTEND;TZID=Europe/Stockholm:20251023T200000
DTSTAMP:20260420T213031
CREATED:20251013T091630Z
LAST-MODIFIED:20251013T092427Z
UID:10000247-1761238800-1761249600@www.lundaekonomerna.se
SUMMARY:Study Night with Grant Thornton
DESCRIPTION:The Corporate Relations Committee invites you to a Study Night with Grant Thornton! \nAre you in your first semester of the Bachelor of Science in Business and Economics (ek. kand.) and currently preparing for your upcoming accounting exam? Then don’t miss this event on October 23rd. Enjoy delicious pizza while getting help!  \nRepresentatives from Grant Thornton will walk you through questions from past exams and there will also be time for your own studies\, where you can get help with all your questions. This is your chance to get some extra support before the exam\, and at the same time\, a great opportunity to mingle\, network and get to know Grant Thornton better! \nWhen: October 23\, 17:00-20:00 \nWhere: EC2:169  \nFor who: Members of LundaEkonomerna who are first year accounting students. \nMake sure to sign up\, you do not want to miss this! \nhttps://podio.com/…/crc…/apps/grant-thornton-study-nightLast day to sign up is October 19th.
URL:https://www.lundaekonomerna.se/event/study-night-with-grant-thornton-2/
LOCATION:LUSEM\, Tycho Brahes väg 1\, LUND\, 223 63\, Sweden
CATEGORIES:Career
ATTACH;FMTTYPE=image/jpeg:https://www.lundaekonomerna.se/wp-content/uploads/2025/10/study-night.jpg
END:VEVENT
BEGIN:VEVENT
DTSTART;TZID=Europe/Stockholm:20251030T063000
DTEND;TZID=Europe/Stockholm:20251030T233000
DTSTAMP:20260420T213031
CREATED:20251013T092152Z
LAST-MODIFIED:20251013T092333Z
UID:10000248-1761805800-1761867000@www.lundaekonomerna.se
SUMMARY:ThrilLEr at Lunds Nation
DESCRIPTION:The Social Committee proudly presents: ThrilLEr at Lunds!    \nLunds Nation will transform into a chilling nightmare where ghosts\, vampires\, witches\, and lost souls come together for one terrifyingly unforgettable night. We want to see it all – creepy creatures\, haunted heroes\, spooky movie icons\, and everything that goes bump in the night. Step into the darkness\, show off your most horrifying Halloween look\, and become part of the legend that is ThrilLEr at Lunds Nation!!!!   \nLund is full of traditions\, but this night will be remembered by those who dare to embrace the thrill. The Social Committee is on the hunt for the two best-dressed guests of the night – those who truly capture the spirit of Halloween will win a anmodan to this semester’s VISBOKEN!!!! So\, dress to kill – we can’t wait to see your haunting transformation. We’ll be snapping photos all night and crowning our spooky style icons on Instagram. \n… But WAIT the night doesn’t end there.  When the sittning fades into darkness\, the horror continues high above the city — at the AFTERPARTY in the Penthouse\, reserved exclusively for LundaEkonomer. Expect eerie beats\, chilling drinks\, and a Halloween vibe that’ll raise the dead.  \nMark your calendars for October 30th – and remember\, it’s going to be a real ThrilLEr… \nTICKETS RELEASE in Orbi-app on the 17th of October at 12:00 \nWhen? Thursday the 30th of OctoberWhere? Lunds NationTheme? ThrilLEr – Halloween SittningAfter party: PENTHOUSE exclusively for lundaekonomer Doors open: 18:30 – don’t be late\, or you might not make it out alive… \nDon’t forget to bring your songbook! \nLots of spooky love\,The Social Committee \n@socialcommittee.le #besocialwithsocial \nRemember that you must be a member of LundaEkonomerna to attend this event.By signing up for this event\, you agree that the LundaEkonomerna Student Union processes your personal information.
URL:https://www.lundaekonomerna.se/event/thriller-at-lunds-nation/
LOCATION:Lunds Nation\, Agardhsgatan 1\, Lund\, 223 51\, Sweden
CATEGORIES:Social
ATTACH;FMTTYPE=image/jpeg:https://www.lundaekonomerna.se/wp-content/uploads/2025/10/thriller-at-lunds-nation.jpg
END:VEVENT
END:VCALENDAR