BEGIN:VCALENDAR
VERSION:2.0
PRODID:-//LundaEkonomerna Student Union - ECPv6.15.12.2//NONSGML v1.0//EN
CALSCALE:GREGORIAN
METHOD:PUBLISH
X-ORIGINAL-URL:https://www.lundaekonomerna.se
X-WR-CALDESC:Events for LundaEkonomerna Student Union
REFRESH-INTERVAL;VALUE=DURATION:PT1H
X-Robots-Tag:noindex
X-PUBLISHED-TTL:PT1H
BEGIN:VTIMEZONE
TZID:Europe/Stockholm
BEGIN:DAYLIGHT
TZOFFSETFROM:+0100
TZOFFSETTO:+0200
TZNAME:CEST
DTSTART:20240331T010000
END:DAYLIGHT
BEGIN:STANDARD
TZOFFSETFROM:+0200
TZOFFSETTO:+0100
TZNAME:CET
DTSTART:20241027T010000
END:STANDARD
BEGIN:DAYLIGHT
TZOFFSETFROM:+0100
TZOFFSETTO:+0200
TZNAME:CEST
DTSTART:20250330T010000
END:DAYLIGHT
BEGIN:STANDARD
TZOFFSETFROM:+0200
TZOFFSETTO:+0100
TZNAME:CET
DTSTART:20251026T010000
END:STANDARD
BEGIN:DAYLIGHT
TZOFFSETFROM:+0100
TZOFFSETTO:+0200
TZNAME:CEST
DTSTART:20260329T010000
END:DAYLIGHT
BEGIN:STANDARD
TZOFFSETFROM:+0200
TZOFFSETTO:+0100
TZNAME:CET
DTSTART:20261025T010000
END:STANDARD
END:VTIMEZONE
BEGIN:VEVENT
DTSTART;TZID=Europe/Stockholm:20251202T170000
DTEND;TZID=Europe/Stockholm:20251202T203000
DTSTAMP:20260419T160817
CREATED:20251117T194101Z
LAST-MODIFIED:20251117T194101Z
UID:10000257-1764694800-1764707400@www.lundaekonomerna.se
SUMMARY:SEB Office Event
DESCRIPTION:What drives you – and how do you find your path?   \nOn 2 December\, SEB and Lundaekonomerna invite you to an inspiring evening at SEB’s office in Lund\, where you’ll discover how passion\, strategy and leadership come together in the world of work. The evening will be led by Jacob Lindgren and Maria Rydén\, two former SEB trainees (and proud Lund alumni!)\, who will share their career journeys\, experiences and insights on:  \n Product Strategy – turning ideas into reality \n  Ikigai – finding your purpose and what drives you \n  Transformative Leadership – leadership that makes a difference  \nYou’ll also get an introduction to SEB’s trainee programme and what it means to grow within an organisation that values sustainable development\, innovation and ambitious people.  \n Check-in 17:00 | Start 17:20 | Finish 20:15 \n  SEB’s office in Lund \n  Dinner and drinks provided by SEB  \nPlease note that the event will be held in Swedish \n  Sign up here: https://podio.com/webforms/30544493/2582497  \nMake sure to sign up as soon as possible\, as places are limited!  \nIf you have any questions\, please contact Adam at seb@lundaekonomerna.se. \n We look forward to seeing you!
URL:https://www.lundaekonomerna.se/event/seb-office-event/
LOCATION:SEB Office\, Kyrkogatan 1\, Lund\, 22222\, Sweden
CATEGORIES:Career
ATTACH;FMTTYPE=image/jpeg:https://www.lundaekonomerna.se/wp-content/uploads/2025/11/seb-office-event.jpg
END:VEVENT
BEGIN:VEVENT
DTSTART;TZID=Europe/Stockholm:20251204T170000
DTEND;TZID=Europe/Stockholm:20251204T210000
DTSTAMP:20260419T160817
CREATED:20251117T194330Z
LAST-MODIFIED:20251117T194330Z
UID:10000258-1764867600-1764882000@www.lundaekonomerna.se
SUMMARY:Case Event with PwC!
DESCRIPTION:For students interested in a career in finance and gaining insight into how corporate transactions are carried out in practice\, this event is for you! \nThe case event will provide an inspiring evening with engaging case exercises\, mingling\, food\, and drinks. \n Date: 4th December \n Time: 17:00–21:00 \n Location: Anna Lindhs plats 4\, 203 11 Malmö \nSign up via the link before 28 November. \nhttps://podio.com/webforms/30551146/2583506
URL:https://www.lundaekonomerna.se/event/case-event-with-pwc/
LOCATION:SEB Office\, Kyrkogatan 1\, Lund\, 22222\, Sweden
CATEGORIES:Career
ATTACH;FMTTYPE=image/jpeg:https://www.lundaekonomerna.se/wp-content/uploads/2025/11/pwc-case.jpg
END:VEVENT
END:VCALENDAR